BEGIN:VCALENDAR
VERSION:2.0
PRODID:-//Discothek Sommerkeller - ECPv6.15.20//NONSGML v1.0//EN
CALSCALE:GREGORIAN
METHOD:PUBLISH
X-WR-CALNAME:Discothek Sommerkeller
X-ORIGINAL-URL:http://sommerkeller-disco.de
X-WR-CALDESC:Veranstaltungen für Discothek Sommerkeller
REFRESH-INTERVAL;VALUE=DURATION:PT1H
X-Robots-Tag:noindex
X-PUBLISHED-TTL:PT1H
BEGIN:VTIMEZONE
TZID:UTC
BEGIN:STANDARD
TZOFFSETFROM:+0000
TZOFFSETTO:+0000
TZNAME:UTC
DTSTART:20220101T000000
END:STANDARD
END:VTIMEZONE
BEGIN:VEVENT
DTSTART;TZID=UTC:20260418T220000
DTEND;TZID=UTC:20260419T050000
DTSTAMP:20260419T141431
CREATED:20231219T114515Z
LAST-MODIFIED:20260217T144440Z
UID:565-1776549600-1776574800@sommerkeller-disco.de
SUMMARY:Sommerkeller | SA 18.04.
DESCRIPTION:SAMSTAG\, 18.04.2026 \nSoKe Rock #2026 \n👉 SoKe Hauptraum:  Pop\, Rock\, Disco\, 70er\, 80er\, 90er\, Dance: DJ RAMAZOTTL \n👉 Rock Bunker:  Hard-Rock\, Rock\, Heavy-Metal : DJ BERTL \n👉 Stadl:  Partysound\, Schlager\, Fetenhits\, Ballermann\, Apres-Ski : DJ BUDDY SVEN \n👉 Waldwerk:  House\, Dance\, 2000er & 2010er\, Black\, HipHop\, Clubsound\, EDM: DJ J-SONGZ \n👉 9Mile Lounge:  VIP Lounge // Chill Out Room // Aperol Sprizz / Hugo / Sex on the Beach / Mojito \n👉 Garten:  Raucherbereich\, Chillout Area\, Outdoor \nDas große SOMMERKELLER Weekendjeden SAMSTAG  von 22:00 – 05:00 Uhr Eintritt Euro 5.- Abendkasse Einlass ab 20+ \n_______________________________________________ \n© Disco Sommerkeller Am Sommerkeller 1 / Landsbergerstraße 86859 Igling info@sommerkeller-disco.de
URL:http://sommerkeller-disco.de/event/sommerkeller-sa-03-02
LOCATION:Sommerkeller Disco\, Am Sommerkeller 1\, Igling\, Bayern\, 86859\, Deutschland
CATEGORIES:Events
ATTACH;FMTTYPE=image/jpeg:http://sommerkeller-disco.de/wp-content/uploads/2022/03/facebook-titel.jpg
ORGANIZER;CN="Sommerkeller-Disco":MAILTO:info@sommerkeller-disco.de
END:VEVENT
BEGIN:VEVENT
DTSTART;TZID=UTC:20260327T220000
DTEND;TZID=UTC:20260328T040000
DTSTAMP:20260419T141431
CREATED:20220908T092635Z
LAST-MODIFIED:20260217T143849Z
UID:275-1774648800-1774670400@sommerkeller-disco.de
SUMMARY:FR 27.03. | SoKe Ü16 Night
DESCRIPTION:Claw.Events presents \nDie große Ü16 Party im Sommerkeller 🌟\nEINLASS AB 16+ (mit Muttizettel und Aufsicht) \nSommerkeller U20 Einlass >> Nur an diesem FREITAG\, 27.03.2026 \nCLAW Events präsentiert: \n• Ü16 Night • 2 Areas \n👉 WALDWERK FLOOR:\nHip Hop / Reggaeton / 90er & 2000er Hits / Charts / Eurodance \n👉 SOKE MAIN FLOOR:\nClubsound / House / EDM / 2010er Hits / Techno \n👉 OUTDOOR FLOOR: \nSommerkeller – Special U20 Event !\n22:00 – 04:00 Uhr \nTickets vorzeitig online sichern!!\nwww.linktr.ee/clawevents \nKarten auch an der Sommerkeller Abendkasse ab 22.00 Uhr \n______________________________________ \nSommerkeller Disco\nAm Sommerkeller 1 / Landsbergerstraße\n86859 Igling \nVeranstalter: CLAW Events
URL:http://sommerkeller-disco.de/event/so-25-12-2022-soke
LOCATION:Sommerkeller Disco\, Am Sommerkeller 1\, Igling\, Bayern\, 86859\, Deutschland
CATEGORIES:Events
ATTACH;FMTTYPE=image/jpeg:http://sommerkeller-disco.de/wp-content/uploads/2024/12/37-FFB-38.jpg
END:VEVENT
BEGIN:VEVENT
DTSTART;TZID=UTC:20260221T220000
DTEND;TZID=UTC:20260222T050000
DTSTAMP:20260419T141431
CREATED:20240325T190917Z
LAST-MODIFIED:20260217T143319Z
UID:630-1771711200-1771736400@sommerkeller-disco.de
SUMMARY:90er & 2000er Disco • SA 21.02.2026
DESCRIPTION:90er & 2000er DISCO\n@ SOMMERKELLER • IGLING\n\nMusik wie damals und Stimmung wie damals\, in der Location von damals ….\nS O M M E R K E L L E R – DISCO 90er & 2000er\nDie beste Musik aus den 90er & 2000er Jahren im SoKe\nEinlass ab 20+\n\n SoKe MAIN FLOOR: Hauptraum\nPop\, Disco\, 90er\, 2000er\, Bravo-Hits\, Clubsound:\nDJ BURN-E\n\nSTADL: \nPartysound\, Schlager\, 90er Fetenhits\, Ballermann:\nDJ ARMANDO\n\nWALDWERK: Roter Neubau\nCharts\, Dance\, 90er\, 2000er\, House\, RnB\, Bravo-Hits\, Clubsound :\nDJ WIZARD\n\nROCK BUNKER: \nHardrock\, Heavy-Metal\, Rock :\nDJ MIKE MUC\n____________________________________\n\nSAMSTAG\, 21.02.2026\nvon 22:00 – 05:00 Uhr \nEintritt € 5.- Abendkasse\nEinlass ab 20+\n____________________________________\n\nWWW.SOMMERKELLER-DISCO.DE\nAm Sommerkeller 1 \n86859 Igling / Landsberg
URL:http://sommerkeller-disco.de/event/90er-2000er-disco-di-30-04
LOCATION:Sommerkeller Disco\, Am Sommerkeller 1\, Igling\, Bayern\, 86859\, Deutschland
CATEGORIES:Events
ATTACH;FMTTYPE=image/jpeg:http://sommerkeller-disco.de/wp-content/uploads/2022/01/90er_quer_neutral.jpg
ORGANIZER;CN="Sommerkeller-Disco":MAILTO:info@sommerkeller-disco.de
END:VEVENT
BEGIN:VEVENT
DTSTART;TZID=UTC:20260212T143000
DTEND;TZID=UTC:20260213T033000
DTSTAMP:20260419T141431
CREATED:20221110T105111Z
LAST-MODIFIED:20260204T191249Z
UID:315-1770906600-1770953400@sommerkeller-disco.de
SUMMARY:Lumpige Donnerstag 12.02.26
DESCRIPTION:Der LUMPIGE DONNERSTAG – Der Altweiberfasching im SOMMERKELLER\nDONNERSTAG\, 12.02.2026 von 15:00 – 03:00 Uhr \nEinlass ab 14:30 Uhr\nEs gibt KEINEN Kartenvorverkauf !! Karten an der SoKe Kasse\nFrüh kommen – lange feiern !! \n👉 Großer Freibereich am Parkplatz mit Imbiss\, Getränken und Musik ab 14:30 Uhr\nVERKLEIDET oder UNVERKLEIDET \n👉 SoKe Hauptraum:  Disco\, Pop\, Schlager\, Fetenhits\, NDW\, Ballermann\, Apres-Ski\, Charts:\nDJ RAMAZOTTL \n👉 Stadl:  Partysound\, Schlager\, Fetenhits\, Ballermann\, Apres-Ski:\nDJ ARMANDO & DJ BUDDY SVEN \n👉 Kleine Disco: Partysound\, Schlager\, Rock\, Charts:\nDJ JÜRGEN \n👉 Waldwerk: Roter Neubau:  90er & 2000er\, Dance\, House\, Black\, Partysound\, EDM\, Clubsound\, Charts:\nDJ WIZARD & DJ GOODY \n👉 9Mile Lounge:  Chill Out Lounge Room //\nAperol Sprizz / Hugo / Sex on the Beach / Mojito \n👉 Garten:  Raucherbereich\, Chillout Area\, Outdoor \nDer LUMPIGE DONNERSTAG im SoKe\nDONNERSTAG\, 12.02.2026  von 15:00 Uhr bis 03:00 Uhr\nEINLASS AB 14:30 Uhr\nEintritt : Euro 10.- direkt an der Kasse am Eingang\nEinlass ab 18+ \nEs gibt leider KEINEN Shuttlebus von Landsberg in den Sommerkeller. \n_______________________________________________ \nDisco Sommerkeller\nAm Sommerkeller 1 / Landsbergerstraße\n86859 Igling\ninfo@sommerkeller-disco.de
URL:http://sommerkeller-disco.de/event/der-lumpige-donnerstag-im-sommerkeller
LOCATION:Sommerkeller Disco\, Am Sommerkeller 1\, Igling\, Bayern\, 86859\, Deutschland
CATEGORIES:Events
ATTACH;FMTTYPE=image/jpeg:http://sommerkeller-disco.de/wp-content/uploads/2024/12/10-FFB-11.jpg
ORGANIZER;CN="Sommerkeller-Disco":MAILTO:info@sommerkeller-disco.de
END:VEVENT
BEGIN:VEVENT
DTSTART;TZID=UTC:20251231T220000
DTEND;TZID=UTC:20260101T010000
DTSTAMP:20260419T141431
CREATED:20221103T095634Z
LAST-MODIFIED:20251103T155909Z
UID:309-1767218400-1767229200@sommerkeller-disco.de
SUMMARY:Silvester 31.12. geschlossen !!
DESCRIPTION:SILVESTER • Mittwoch\, 31.12. bleibt der Sommerkeller GESCHLOSSEN !! \nWir sehen uns am\nSamstag\, 03.01.2026 \nSILVESTER ist der Sommerkeller geschlossen !!
URL:http://sommerkeller-disco.de/event/24-12-und-31-12-geschlossen
LOCATION:Sommerkeller Disco\, Am Sommerkeller 1\, Igling\, Bayern\, 86859\, Deutschland
CATEGORIES:Events
ATTACH;FMTTYPE=image/jpeg:http://sommerkeller-disco.de/wp-content/uploads/2022/03/Sommerkeller-Finish-27-NET.jpg
END:VEVENT
BEGIN:VEVENT
DTSTART;TZID=UTC:20251225T220000
DTEND;TZID=UTC:20251226T050000
DTSTAMP:20260419T141431
CREATED:20220124T213001Z
LAST-MODIFIED:20251218T160403Z
UID:81-1766700000-1766725200@sommerkeller-disco.de
SUMMARY:Christmas Rock • DO 25.12.
DESCRIPTION:DONNERSTAG\, 25. DEZEMBER 2025Christmas Rock Einlass ab 20+ \n👉 SoKe Hauptraum:  Pop\, Rock\, Disco\, NDW\, 70er\, 80er\, 90er\, Rock-Classics :DJ MIKE K \n👉 Stadl:  Partysound\, Schlager\, Fetenhits\, Ballermann\, Apres-Ski :DER MEISCHTER \n👉 Rock Bunker:  Hard-Rock\, Rock\, Heavy-Metal :DJ JÜRGEN \n👉 Waldwerk:  Charts\, Dance\, 2000er\, House\, Black\, HipHop\, Clubsound\, EDM:DJ W!ZARD \n👉 9Mile Lounge:  Chill Out Room // Special VIP Area\, Birthday SpecialsAperol Sprizz / Hugo / Sex on the Beach / Mojito \n👉 Garten:  Raucherbereich\, Chillout Area\, Outdoor \nCHRISTMAS ROCK22:00 – 05:00 UhrEintritt Euro 5.- AbendkasseEinlass ab 20+ \n_______________________________________________© Disco SommerkellerAm Sommerkeller 1 / Landsbergerstraße86859 Iglinginfo@sommerkeller-disco.de
URL:http://sommerkeller-disco.de/event/soke-hauptraum
LOCATION:Sommerkeller Disco\, Am Sommerkeller 1\, Igling\, Bayern\, 86859\, Deutschland
CATEGORIES:Events
ATTACH;FMTTYPE=image/jpeg:http://sommerkeller-disco.de/wp-content/uploads/2022/01/Christmas-Party-quer.jpg
ORGANIZER;CN="Sommerkeller-Disco":MAILTO:info@sommerkeller-disco.de
END:VEVENT
BEGIN:VEVENT
DTSTART;TZID=UTC:20251122T220000
DTEND;TZID=UTC:20251123T050000
DTSTAMP:20260419T141431
CREATED:20220407T190514Z
LAST-MODIFIED:20250930T182103Z
UID:188-1763848800-1763874000@sommerkeller-disco.de
SUMMARY:Club Night • SA 22.11.
DESCRIPTION:SAMSTAG\, 22.11.2025#SOMMERKELLER  \nAbendkasse € 5.- / Einlass ab 18 Jahren / 22.00 – 05.00 Uhr / Die S-Club-Night auf 4 AreasEINTRITT FREI + € 5.- GETRÄNKEGUTSCHEIN FÜR ALLE KUNDEN DER SPARKASSE LANDSBERG-DIESSEN AN DER KASSE👉 SoKe Hauptraum:  Pop\, Rock\, Disco\, NDW\, 70er\, 80er\, 90er\, Classics :DJ RAMAZOTTL👉 Stadl:  Partysound\, Schlager\, Fetenhits\, Ballermann\, Apres-Ski :DJ BUDDY SVEN👉 Rock Bunker:  Hard-Rock\, Rock\, Metal :DJ JÜRGEN👉 Waldwerk:  Charts\, House\, Black\, Hip Hop\, Clubsound\, EDM :DJ W!ZARD👉 9Mile Lounge:  Chill Out Room // Aperol Sprizz / Hugo / Sex on the Beach / Mojito👉 Garten:  Raucherbereich\, Chillout Area\, Outdoor \nSoKe SOMMERKELLER Club NightSAMSTAG  von 22:00 – 05:00 UhrEintritt Euro 5.- AbendkasseEinlass ab 18 Jahren !! \n_______________________________________________© Disco SommerkellerAm Sommerkeller 1 / Landsbergerstraße86859 Iglinginfo@sommerkeller-disco.de
URL:http://sommerkeller-disco.de/event/sommerkeller-sa-30-04
LOCATION:Sommerkeller Disco\, Am Sommerkeller 1\, Igling\, Bayern\, 86859\, Deutschland
CATEGORIES:Events
ATTACH;FMTTYPE=image/jpeg:http://sommerkeller-disco.de/wp-content/uploads/2022/04/Sommerkeller-NOV-home.jpg
ORGANIZER;CN="Sommerkeller-Disco":MAILTO:info@sommerkeller-disco.de
END:VEVENT
BEGIN:VEVENT
DTSTART;TZID=UTC:20251031T220000
DTEND;TZID=UTC:20251101T050000
DTSTAMP:20260419T141431
CREATED:20220809T102555Z
LAST-MODIFIED:20251029T115503Z
UID:251-1761948000-1761973200@sommerkeller-disco.de
SUMMARY:HALLOWEEN - FR 31.10.2025
DESCRIPTION:Die Nacht des Grauens @ SoKe Igling \nFREITAG\, 31.10.2025 von 22.00 – 05.00 Uhr \n4 Areas // HALLOWEEN NIGHT // Einlass ab Ü20+ \nSoKe #halloween #weekend\n \n👉 SoKe Hauptraum:  Pop\, Rock\, Disco\, NDW\, 70er\, 80er\, 90er\, Classics :\nDJ RAMAZOTTL \n👉 Stadl:  Partysound\, Schlager\, Fetenhits\, Ballerman\, Apres-Ski :\nDJ DDC Tobi \n👉 Kleine Disco:  Hard-Rock\, Rock\, Metal :\nDJ MIKE MUC \n👉 Waldwerk:  Charts\, Dance\, 2000er\, House\, Black\, HipHop\, Clubsound\, EDM\, Reggaeton:\nDJ W!ZARD \n👉 9Mile Lounge:  Chill Out Room // Special VIP Area\,\nAperol Sprizz / Hugo / Sex on the Beach / Mojito \n👉 Garten:  Raucherbereich\, Chillout Area\, Outdoor \nDie große SOMMERKELLER HALLOWEEN Night\nFREITAG\, 31.10.2025\nEintritt Euro 10.- Abendkasse\nEinlass ab 20+ !! Adult only.\nVerkleidung erwünscht\, aber nicht Pflicht!
URL:http://sommerkeller-disco.de/event/halloween-mo-31-10
LOCATION:Sommerkeller Disco\, Am Sommerkeller 1\, Igling\, Bayern\, 86859\, Deutschland
CATEGORIES:Events
ATTACH;FMTTYPE=image/jpeg:http://sommerkeller-disco.de/wp-content/uploads/2022/08/Quer-Foto-fb-1.jpg
ORGANIZER;CN="Sommerkeller-Disco":MAILTO:info@sommerkeller-disco.de
END:VEVENT
BEGIN:VEVENT
DTSTART;TZID=UTC:20251024T220000
DTEND;TZID=UTC:20251025T040000
DTSTAMP:20260419T141431
CREATED:20220504T094823Z
LAST-MODIFIED:20250729T093303Z
UID:205-1761343200-1761364800@sommerkeller-disco.de
SUMMARY:FR 24.10. • Ü16 Halloween Night • ClawEvents
DESCRIPTION:Die große Ü16 Halloween Party im Sommerkeller 🌟\nEINLASS AB 16+ (mit Muttizettel) \nSommerkeller U20 Einlass >> Nur an diesem FREITAG\, 24.10.2025 \nCLAW Events präsentiert: \n• Halloween Night • \n👉 WALDWERK FLOOR:\nHip Hop / Reggaeton / Trap / Black / Charts / Deutschrap \n👉 SOKE MAIN FLOOR:\nClubsound / House / EDM / 90er & 2000er Hits / Techno \n👉 OUTDOOR FLOOR: \nSommerkeller – Special U18 Event !\n22:00 – 04:00 Uhr \nTickets vorzeitig online sichern!!\nwww.linktr.ee/clawevents \nKarten auch an der Sommerkeller Abendkasse ab 22.00 Uhr \n______________________________________ \nSommerkeller Disco\nAm Sommerkeller 1 / Landsbergerstraße\n86859 Igling \nVeranstalter: CLAW Events
URL:http://sommerkeller-disco.de/event/fr-29-07-waldwerk-summer-u18
LOCATION:Sommerkeller Disco\, Am Sommerkeller 1\, Igling\, Bayern\, 86859\, Deutschland
CATEGORIES:Events
ATTACH;FMTTYPE=image/jpeg:http://sommerkeller-disco.de/wp-content/uploads/2022/05/Sommerkeller-Finish-11-net.jpg
END:VEVENT
BEGIN:VEVENT
DTSTART;TZID=UTC:20251018T153000
DTEND;TZID=UTC:20251018T193000
DTSTAMP:20260419T141431
CREATED:20240516T095727Z
LAST-MODIFIED:20250729T090823Z
UID:656-1760801400-1760815800@sommerkeller-disco.de
SUMMARY:SA 18.10. Ü50-Disco\, Tanzabend
DESCRIPTION:Ü50-Disco & Tanzabend im Sommerkeller • Igling \nfür alle Altersgruppen von 40 – 99 Jahren\, Freunde\, Begleitungen und alle Junggebliebene.\nTreffen\, flirten\, tanzen\, feiern.\nÜ50-Disco-Party im Sommerkeller • Igling \n2 DJs – 2 AREAS \nDJ HORST in der 2nd Area\nRock\, Rock’n’Roll\, 60er & 70er Hits / Pop / Rock \nDJ RAMAZOTTL im SoKe Main Floor & Rock Bunker\nDisco\, Dance\, 80er\, 90er\, Tanzmusik\, Pop \nSamstag\, 18. Oktober 2025\nvon 15.30 – 19.30 Uhr\nEinlass ab 15:30 Uhr \nEintritt : Euro 5.- an der Kasse im Sommerkeller ab 16:00 Uhr.
URL:http://sommerkeller-disco.de/event/sa-21-09-ue60-disco
LOCATION:Sommerkeller Disco\, Am Sommerkeller 1\, Igling\, Bayern\, 86859\, Deutschland
CATEGORIES:Events
ATTACH;FMTTYPE=image/jpeg:http://sommerkeller-disco.de/wp-content/uploads/2022/03/Sommerkeller-Finish-12-NET.jpg
ORGANIZER;CN="Sommerkeller-Disco":MAILTO:info@sommerkeller-disco.de
END:VEVENT
BEGIN:VEVENT
DTSTART;TZID=UTC:20251002T220000
DTEND;TZID=UTC:20251003T050000
DTSTAMP:20260419T141431
CREATED:20220415T161653Z
LAST-MODIFIED:20250930T182437Z
UID:201-1759442400-1759467600@sommerkeller-disco.de
SUMMARY:Oktoberfest • DO 02.10.
DESCRIPTION:Die große Wiesn Gaudi\nEintritt FREI bis 0 Uhr im Dirndl oder in der Lederhose !\n\n  \n\n\n\nDONNERSTAG\, 02. OKTOBER 2025\n\n22.00 – 05.00 Uhr // \n  \n\n\n\n SoKe Main Room : Rock\, Party-Hits\, Pop & Dance\, 80er & 90er\nmit DJ Mike Muc\n\n  Stadl Jägermeister-Zone : Fetenhits\, Apres-Ski\, Schlager\, Wiesn-Hits\nmit DJ Hosi\n\n Waldwerk Ballermann-Floor : Wiesn-Hits\, EDM\, Partysound\, Hip Hop\, Dance & House\nmit DJ Arcanex\n\n  Rock-Bunker : Rock. Hardrock\nmit DJ M\n\n\n\n\n\n\n\nDIE WIESN GAUDI IM SOMMERKELLER\n\n___________________________________________________________ \n  \n\nVon 22:00 – 05:00 Uhr / Eintritt € 5.-\n\nEinlass ab 20+ \n\n\n\n@ Sommerkeller Disco – SoKe Igling\n86859 Igling / Landsberg am Lech / Am Sommerkeller 1
URL:http://sommerkeller-disco.de/event/malle-schlager-party-mi-25-05
LOCATION:Sommerkeller Disco\, Am Sommerkeller 1\, Igling\, Bayern\, 86859\, Deutschland
CATEGORIES:Events
ATTACH;FMTTYPE=image/jpeg:http://sommerkeller-disco.de/wp-content/uploads/2022/04/Oktoberfest-quer.jpg
ORGANIZER;CN="Sommerkeller-Disco":MAILTO:info@sommerkeller-disco.de
END:VEVENT
BEGIN:VEVENT
DTSTART;TZID=UTC:20241108T210000
DTEND;TZID=UTC:20241108T210000
DTSTAMP:20260419T141431
CREATED:20240929T153347Z
LAST-MODIFIED:20240929T153347Z
UID:722-1731099600-1731099600@sommerkeller-disco.de
SUMMARY:FR 08.11. ROCK BLOCK Revival
DESCRIPTION:ROCK im WALDWERK • Sommerkeller\, Igling\nFREITAG\, 08. NOVEMBER 2024 \nONLY ROCK :: BEST OF ROCK\nDJ ROBBY\nDJ MIKE MUC \nROCK BLOCK • REVIVAL • WALDWERK \n21:00 – 03:00 Uhr // Eintritt Euro 5.- Abendkasse
URL:http://sommerkeller-disco.de/event/fr-08-11-rock-block-revival
LOCATION:Sommerkeller Disco\, Am Sommerkeller 1\, Igling\, Bayern\, 86859\, Deutschland
CATEGORIES:Events
ATTACH;FMTTYPE=image/jpeg:http://sommerkeller-disco.de/wp-content/uploads/2024/09/Rock-Music-Flyer-Quer.jpg
ORGANIZER;CN="Sommerkeller-Disco":MAILTO:info@sommerkeller-disco.de
END:VEVENT
BEGIN:VEVENT
DTSTART;TZID=UTC:20240713T190000
DTEND;TZID=UTC:20240714T050000
DTSTAMP:20260419T141431
CREATED:20230223T210352Z
LAST-MODIFIED:20240524T130758Z
UID:373-1720897200-1720933200@sommerkeller-disco.de
SUMMARY:SA 13.07. Sommerkeller + Inklusiver Discoabend
DESCRIPTION:Am SAMSTAG\, den 13.07.2024 ist es wieder soweit!\nAb 19:00 Uhr INKLUSIVER DISCOABEND\nFür Menschen mit einer Behinderung.\nTanzen und Spaß haben.\nAuch Menschen mit Behinderung sollen so leben können\, wie alle Menschen.\nDer Eintritt ist frei.\nDie Veranstaltung findet barrierefrei im Waldwerk und im Rock Hauptraum statt.\n2 Areas / Doppelt Spaß\, Musik und tanzen\nWaldwerk: Clubsound\, Charts\, Dance\nSoKe Hauptraum: Rock\, Pop\, Hardrock\, Disco\n(um 19 Uhr ist der Eintritt FREI) \n– – – – – – – – – – – – – – – – – – – – – – – – – – – – – – – – \nAb 22:00 Uhr #SoKe #Samstag #Pop #Rock #Disco #Dance \n👉 SoKe Hauptraum:  Pop\, Rock\, Disco\, NDW\, 70er\, 80er\, 90er\, Classics :\nDJ TOMMY SALINO \n👉 Stadl:  Partysound\, Schlager\, Fetenhits\, Ballermann\, Apres-Ski :\nDJ BUDDY SVEN \n👉 Kleine Disco:  Hard-Rock\, Rock\, Metal :\nDJ Bertl – Rock aus Bayern \n👉 Waldwerk:  Charts\, Dance\, 2000er\, House\, Black\, Hip Hop\, Clubsound\, EDM\, Reggaeton:\nDJ EmmEss \n👉 9Mile Lounge:  Chill Out Room // Special VIP Area\, Birthday Specials\nAperol Sprizz / Hugo / Sex on the Beach / Mojito \n👉 Garten:  Raucherbereich\, Chillout Area\, Outdoor \nSOMMERKELLER Disco | Die Party für Erwachsene\njeden SAMSTAG  von 22:00 – 05:00 Uhr\nEintritt Euro 5.- Abendkasse\nEinlass ab 20+ \n_______________________________________________ \nDisco Sommerkeller\nAm Sommerkeller 1 / Landsbergerstraße\n86859 Igling\ninfo@sommerkeller-disco.de
URL:http://sommerkeller-disco.de/event/sommerkeller-sa-25-02-2
LOCATION:Sommerkeller Disco\, Am Sommerkeller 1\, Igling\, Bayern\, 86859\, Deutschland
CATEGORIES:Events
ATTACH;FMTTYPE=image/jpeg:http://sommerkeller-disco.de/wp-content/uploads/2022/03/Sommerkeller-Finish-5-NET.jpg
ORGANIZER;CN="Sommerkeller-Disco":MAILTO:info@sommerkeller-disco.de
END:VEVENT
BEGIN:VEVENT
DTSTART;TZID=UTC:20240308T220000
DTEND;TZID=UTC:20240309T040000
DTSTAMP:20260419T141431
CREATED:20220907T100030Z
LAST-MODIFIED:20231229T162210Z
UID:267-1709935200-1709956800@sommerkeller-disco.de
SUMMARY:Schwarze Nacht FR 08.03.2024
DESCRIPTION:Die Schwarze Nacht 2024\nTaucht ein in die legendäre Schwarze Nacht im Sommerkeller. \nFreitag\, den 08.03.2024 \nDJ ENGELSTOD\nDJ JÜRGEN \nAlternativ . Dark Music . Gothic . Wave . Indie \nDRESSCODE : BLACK \n22.00 – 04.00 Uhr \nSommerkeller Hauptbau – MAIN Floor\nEintritt ab 18+\nAbendkasse € 5.-
URL:http://sommerkeller-disco.de/event/schwarze-nacht-11-11
LOCATION:Sommerkeller Disco\, Am Sommerkeller 1\, Igling\, Bayern\, 86859\, Deutschland
CATEGORIES:Events
ATTACH;FMTTYPE=image/jpeg:http://sommerkeller-disco.de/wp-content/uploads/2022/09/Schwarze-Nacht-quer-1.jpg
ORGANIZER;CN="Sommerkeller-Disco":MAILTO:info@sommerkeller-disco.de
END:VEVENT
BEGIN:VEVENT
DTSTART;TZID=UTC:20240119T220000
DTEND;TZID=UTC:20240120T050000
DTSTAMP:20260419T141431
CREATED:20231206T152928Z
LAST-MODIFIED:20231206T152928Z
UID:555-1705701600-1705726800@sommerkeller-disco.de
SUMMARY:FR 19.01.24 Under Pressure . Techno Rave
DESCRIPTION:• SAVE THE RAVE • \nUNDER PRESSURE\n0815_events / scheinheilig / ravage.rave \nFREITAG // 19.01.2024\n22:00 – 05:00 Uhr \nRunning Order >>> \nRESONAR\nALBY\nHAFENMITARBEITER\nLUKO\nDJ LUX \nEinlass ab 18+ \nONLY TECHNO & RAVE\nWALDWERK Floor // Sommerkeller Igling
URL:http://sommerkeller-disco.de/event/fr-19-01-24-under-pressure-techno-rave
LOCATION:Sommerkeller Disco\, Am Sommerkeller 1\, Igling\, Bayern\, 86859\, Deutschland
CATEGORIES:Events
ATTACH;FMTTYPE=image/jpeg:http://sommerkeller-disco.de/wp-content/uploads/2023/12/01_Techno_Jan_Soke.jpg
END:VEVENT
BEGIN:VEVENT
DTSTART;TZID=UTC:20230930T220000
DTEND;TZID=UTC:20231001T220000
DTSTAMP:20260419T141431
CREATED:20230223T210539Z
LAST-MODIFIED:20230912T155129Z
UID:375-1696111200-1696197600@sommerkeller-disco.de
SUMMARY:Sommerkeller - SA 30.09. - Oktoberfest
DESCRIPTION:SAMSTAG\, 30.09.2023\nSoKe Oktoberfest\nDie Wiesn Gaudi \n👉 SoKe Hauptraum:  Pop\, Rock\, Disco\, NDW\, 70er\, 80er\, 90er\, Classics :\nDJ MIKE KELLER \n👉 Stadl:  Partysound\, Schlager\, Fetenhits\, Ballermann\, Apres-Ski :\nDJ HOSI \n👉 Kleine Disco:  Hard-Rock\, Rock\, Metal :\nDJ M \n👉 Waldwerk:  Charts\, Dance\, 2000er\, House\, Black\, Hip Hop\, Clubsound\, EDM\, Reggaeton:\nDJ EmmEss \n👉 9Mile Lounge:  Chill Out Room // Special VIP Area\, Birthday Specials\nAperol Sprizz / Hugo / Sex on the Beach / Mojito \n👉 Garten:  Raucherbereich\, Chillout Area\, Outdoor \nDas große SOMMERKELLER Oktoberfest |\nDie Party für Erwachsene\nSAMSTAG  von 22:00 – 05:00 Uhr\nEintritt Euro 5.- Abendkasse\nEinlass ab 20+ \n_______________________________________________ \nDisco Sommerkeller\nAm Sommerkeller 1 / Landsbergerstraße\n86859 Igling\ninfo@sommerkeller-disco.de
URL:http://sommerkeller-disco.de/event/sommerkeller-sa-29-04
LOCATION:Sommerkeller Disco\, Am Sommerkeller 1\, Igling\, Bayern\, 86859\, Deutschland
CATEGORIES:Events
ATTACH;FMTTYPE=image/jpeg:http://sommerkeller-disco.de/wp-content/uploads/2023/02/Oktoberfest-quer-homepage.jpg
ORGANIZER;CN="Sommerkeller-Disco":MAILTO:info@sommerkeller-disco.de
END:VEVENT
BEGIN:VEVENT
DTSTART;TZID=UTC:20230908T190000
DTEND;TZID=UTC:20230909T003000
DTSTAMP:20260419T141431
CREATED:20230718T143316Z
LAST-MODIFIED:20230904T103016Z
UID:478-1694199600-1694219400@sommerkeller-disco.de
SUMMARY:FR 08.09. Slipped Disc - Classic Rock - live
DESCRIPTION:Die Band \nSLIPPED DISC\nClassic Rock \nlive im Sommerkeller \nEinlass ab 19:00 Uhr\nKonzert Beginn: 20.30 Uhr\nEintritt € 12.- Abendkasse \nSommerkeller Main Floor + Zelt \, Garten Freibereich \nSommerkeller Disco\n86859 Igling
URL:http://sommerkeller-disco.de/event/fr-08-09-slipped-disc-classic-rock-live
LOCATION:Sommerkeller Disco\, Am Sommerkeller 1\, Igling\, Bayern\, 86859\, Deutschland
CATEGORIES:Events
ATTACH;FMTTYPE=image/jpeg:http://sommerkeller-disco.de/wp-content/uploads/2023/07/FR-0809-ROCK.jpg
END:VEVENT
BEGIN:VEVENT
DTSTART;TZID=UTC:20230721T210000
DTEND;TZID=UTC:20230722T030000
DTSTAMP:20260419T141431
CREATED:20230620T093115Z
LAST-MODIFIED:20230720T080812Z
UID:454-1689973200-1689994800@sommerkeller-disco.de
SUMMARY:FR 21.07. | JWR Ü16 Party
DESCRIPTION:Die JWR lädt zur großen Party in den Sommerkeller ein. \nFREITAG // 21.07.2023 \nAb 21:00 Uhr\nWALDWERK  / Lounge / Outdoor-Bereich / Garten \nMixed Music\nHouse . Dance . EDM . Black . Hip Hop . Deutschrap . Partysound . 90er Hits . Clubsound.\nDJ W!ZARD \nSelbstverständlich können alle kommen und mitfeiern. \nAbendkasse\n21.00 – 03.00 Uhr SUMMER VIBES \nEinlass ab 16+ mit Muttizettel.\nAlle Gäste müssen einen Ausweis an der Türe vorzeigen.\nU18 Formular : https://www.discopm.com/u18-formular
URL:http://sommerkeller-disco.de/event/fr-07-07-fos-ue16-abi-party
LOCATION:Sommerkeller Disco\, Am Sommerkeller 1\, Igling\, Bayern\, 86859\, Deutschland
CATEGORIES:Events
ATTACH;FMTTYPE=image/jpeg:http://sommerkeller-disco.de/wp-content/uploads/2023/06/01-ffb-soke03.jpg
END:VEVENT
BEGIN:VEVENT
DTSTART;TZID=UTC:20230623T220000
DTEND;TZID=UTC:20230624T030000
DTSTAMP:20260419T141431
CREATED:20230620T092830Z
LAST-MODIFIED:20230620T093142Z
UID:445-1687557600-1687575600@sommerkeller-disco.de
SUMMARY:FR 23.06. | Ü16 Abi Party DZG
DESCRIPTION:Das DZG lädt zur großen Abi Party im Sommerkeller ein. \nFREITAG // 23.06.2023 \nAb 22:00 Uhr\nWALDWERK / Sommerkeller / Lounge / Outdoor-Bereich \nMixed Music\nHouse . Dance . EDM . Black . Hip Hop . Deutschrap . Party . Clubsound. \nSelbstverständlich können alle kommen und diesen großen Abi Abschluss mitfeiern. \nKarten im Vorverkauf oder an der Abendkasse \nEinlass ab 16+ mit Muttizettel.\nAlle Gäste müssen einen Ausweis an der Türe vorzeigen.\nU18 Formular : https://www.discopm.com/u18-formular
URL:http://sommerkeller-disco.de/event/fr-23-06-ue16-abi-party-dzg
LOCATION:Sommerkeller Disco\, Am Sommerkeller 1\, Igling\, Bayern\, 86859\, Deutschland
CATEGORIES:Events
ATTACH;FMTTYPE=image/jpeg:http://sommerkeller-disco.de/wp-content/uploads/2023/06/01-ffb-soke03.jpg
END:VEVENT
END:VCALENDAR